BEGIN:VCALENDAR
VERSION:2.0
PRODID:-//Plone.org//NONSGML plone.app.event//EN
X-WR-TIMEZONE:Europe/Berlin
BEGIN:VEVENT
SUMMARY:Europakonzert
DTSTART;TZID=Europe/Berlin;VALUE=DATE-TIME:20260507T173000
DTSTAMP;VALUE=DATE-TIME:20260425T130832Z
UID:0817c73c944b4f42b4f8190dd9e60526@127.0.0.1:56001
CATEGORIES:Musik,Europawoche_2026
CREATED;VALUE=DATE-TIME:20260423T153003Z
LAST-MODIFIED;VALUE=DATE-TIME:20260423T153311Z
LOCATION:Aula des Europagymnasium
URL:https://www.gymnasiumkerpen.eu/aktuelles/europakonzert-1
END:VEVENT
BEGIN:VTIMEZONE
TZID:Europe/Berlin
X-LIC-LOCATION:Europe/Berlin
BEGIN:DAYLIGHT
DTSTART;VALUE=DATE-TIME:20260329T030000
TZNAME:CEST
TZOFFSETFROM:+0100
TZOFFSETTO:+0200
END:DAYLIGHT
END:VTIMEZONE
END:VCALENDAR
